BEGIN:VCALENDAR
VERSION:2.0
PRODID:-//ExpressionEngine Easy iCalendar plugin//NONSGML v2.0.1//EN
X-WR-TIMEZONE:America/Chicago
X-WR-CALNAME:Upcoming Auctions
BEGIN:VEVENT
UID:84112
DTSTAMP:20220706T130000
DTSTART:20220706T130000
DTEND:20220720T130000
SUMMARY:Doughty Estate #3 - Antiques\, Collectibles\, Memorabilia\, &. 
 MORE!
LOCATION:3900 S Broadway\, 2W\, Edmond\, OK 73013\, US
DESCRIPTION:DATE & TIME Auction Closes: Wednesday\, July 20th\, 2022 Begin
 ning @ 1:00pm LOCATION & DIRECTIONS Items are Located at 390
 0 S Broadway\, 2W\, Edmond\, OK 73013 SALE INFORMATION Inspecti
 on of items will be held by appointment only. Auction will b
 e held online only. Download the Bray Auctions App for iOS a
 nd Android Devices or bid online by clicking here. Bidders a
 re required to create an account and input credit card infor
 mation for authorization. All Purchases Must Be Paid For Bef
 ore They Can Be Picked Up. Cash\, Checks\, Credit / Debit Card
 s\, and Wire Transfers Will Be Accepted. (3% Convenience Fee 
 on All Credit /Debit Card Purchases). A 10% Buyer's Premium 
 Will Be In Effect. Removal of Items will be held by pre-sche
 duled appointment on Thursday\, July 21st and Friday\, July 22
 nd. Winning Bidders will be contacted to choose an appointme
 nt on Bray Auctions' scheduling system. For Any Questions\, C
 all (405) 888-5366.
URL:https://www.bidbray.com/auctions/detail/bw84112
SEQUENCE:1
END:VEVENT
END:VCALENDAR