BEGIN:VCALENDAR
VERSION:2.0
PRODID:-//ExpressionEngine Easy iCalendar plugin//NONSGML v2.0.1//EN
X-WR-TIMEZONE:America/Chicago
X-WR-CALNAME:Upcoming Auctions
BEGIN:VEVENT
UID:84921
DTSTAMP:20220722T130000
DTSTART:20220722T130000
DTEND:20220724T180000
SUMMARY:OK County District Attorney Seizure Auction
LOCATION:700 N Villa Ave\, Oklahoma City\, OK 73107\, US
DESCRIPTION:TERMS & CONDITIONS: ATTN: A $100 Deposit is required to bid.
  A hold will be placed on funds from the card used to regist
 er. All vehicles are sold AS-IS with no warranties express
  nor implied\; it is the buyer's responsibility to inspect an
 d verify information regarding vehicles\; Arrow Wrecker and B
 ray Auctions have provided information to the best of their 
 ability\, but buyers have the ultimate responsibility of due 
 diligence. Highest Bidder Wins. The online bidding platform 
 will close at a rate of 1 item per minute. If a bid is made 
 within the final 3 minutes of any item\, the timer on THAT it
 em will be reset to 3 minutes. Back up bidders and others wi
 ll have the opportunity to bid again on that item. An item d
 oes not close or sell until the final 3 minutes elapse with 
 no further bids. All sales are final. It is the bidder's res
 ponsibility to do due diligence on all items purchased. Any 
 bidder that wins an item and does not pay will have their bi
 dding credentials revoked and will NEVER be permitted to b
 id again. All items must be paid for before they are removed
 . ALL items must be paid for and removed on the Monday throu
 gh Wednesday following the auction from 8:00am to 6:00pm. An
 y vehicles still not picked up after 1 week will be subject 
 to a $5 per day storage fee. Payments will be made at Arrow 
 Wrecker Service by cash or cashiers check ONLY. If you have 
 questions about vehicles\, please call Arrow Wrecker at 405-
 943-1800. If you have questions about bidding\, please call B
 ray Auctions at 405-888-5366. Good luck!
URL:https://www.bidbray.com/auctions/detail/bw84921
SEQUENCE:1
END:VEVENT
END:VCALENDAR