BEGIN:VCALENDAR
VERSION:2.0
PRODID:-//ExpressionEngine Easy iCalendar plugin//NONSGML v2.0.1//EN
X-WR-TIMEZONE:America/Chicago
X-WR-CALNAME:Upcoming Auctions
BEGIN:VEVENT
UID:85322
DTSTAMP:20220727T130000
DTSTART:20220727T130000
DTEND:20220803T130000
SUMMARY:Doughty Estate #4 - High End Antiques\, Collectibles\, & MORE
LOCATION:3900 S Broadway Ave\, 2W\, Edmond\, OK 73013\, US
DESCRIPTION:DATE & TIME Auction Closes: Wednesday\, August 3rd\, 2022 Begi
 nning @ 1:00pm LOCATION & DIRECTIONS Items are Located at 39
 00 S Broadway\, 2W\, Edmond\, OK 73013 SALE INFORMATION Inspect
 ion of items will be held by appointment only. Auction will 
 be held online only. Download the Bray Auctions App for iOS 
 and Android Devices or bid online by clicking here. Bidders
  are required to create an account and input credit card inf
 ormation for authorization. All Purchases Must Be Paid For B
 efore They Can Be Picked Up. Cash\, Checks\, Credit / Debit Ca
 rds\, and Wire Transfers Will Be Accepted. (3% Convenience Fe
 e on All Credit /Debit Card Purchases). A 10% Buyer's Premiu
 m Will Be In Effect. Removal of Items will be held by pre-sc
 heduled appointment on Thursday\, August 4th and Friday\, Augu
 st 6th. Winning Bidders will be contacted to choose an appoi
 ntment on Bray Auctions' scheduling system. For Any Question
 s\, Call (405) 888-5366.
URL:https://www.bidbray.com/auctions/detail/bw85322
SEQUENCE:1
END:VEVENT
END:VCALENDAR