BEGIN:VCALENDAR
VERSION:2.0
PRODID:-//ExpressionEngine Easy iCalendar plugin//NONSGML v2.0.1//EN
X-WR-TIMEZONE:America/Chicago
X-WR-CALNAME:Upcoming Auctions
BEGIN:VEVENT
UID:85366
DTSTAMP:20220805T130000
DTSTART:20220805T130000
DTEND:20220817T130000
SUMMARY:Doughty Estate #5 - Antiques\, Collectibles\, & More!
LOCATION:3900 S Broadway Ave\, 2W\, Edmond\, OK 73013\, US
DESCRIPTION:DATE & TIME Auction Closes: Monday\, August 8th\, 2022 Beginni
 ng @ 1:00pm LOCATION & DIRECTIONS Items are Located at 3900 
 S Broadway\, 2W\, Edmond\, OK 73013 SALE INFORMATION Inspection
  of items will be held by appointment only. Auction will be 
 held online only. Download the Bray Auctions App for iOS and
  Android Devices or bid online by clicking here. Bidders ar
 e required to create an account and input credit card inform
 ation for authorization. All Purchases Must Be Paid For Befo
 re They Can Be Picked Up. Cash\, Checks\, Credit / Debit Cards
 \, and Wire Transfers Will Be Accepted. (3% Convenience Fee o
 n All Credit /Debit Card Purchases). A 10% Buyer's Premium W
 ill Be In Effect. Removal of Items will be held by pre-sched
 uled appointment on Tuesday\, August 9th and Wednesday\, Augus
 t 10th. Winning Bidders will be contacted to choose an appoi
 ntment on Bray Auctions' scheduling system. For Any Question
 s\, Call (405) 888-5366.
URL:https://www.bidbray.com/auctions/detail/bw85366
SEQUENCE:1
END:VEVENT
END:VCALENDAR