BEGIN:VCALENDAR
VERSION:2.0
PRODID:-//ExpressionEngine Easy iCalendar plugin//NONSGML v2.0.1//EN
X-WR-TIMEZONE:America/Chicago
X-WR-CALNAME:Upcoming Auctions
BEGIN:VEVENT
UID:87328
DTSTAMP:20220817T100000
DTSTART:20220817T100000
DTEND:20220826T130000
SUMMARY:Doughty Estate #6 - Antiques\, Collectibles\, & MORE!
LOCATION:3900 S Broadway Ave\, 2W\, Edmond\, OK 73013\, US
DESCRIPTION:DATE & TIME Auction Closes: Friday\, August 26th\, 2022 Beginn
 ing @ 1:00pm LOCATION & DIRECTIONS Items are Located at 3900
  S Broadway\, 2W\, Edmond\, OK 73013 SALE INFORMATION Inspectio
 n of items will be held by appointment only. Auction will be
  held online only. Download the Bray Auctions App for iOS an
 d Android Devices or bid online by clicking here. Bidders a
 re required to create an account and input credit card infor
 mation for authorization. All Purchases Must Be Paid For Bef
 ore They Can Be Picked Up. Cash\, Checks\, Credit / Debit Card
 s\, and Wire Transfers Will Be Accepted. (3% Convenience Fee 
 on All Credit /Debit Card Purchases). A 10% Buyer's Premium 
 Will Be In Effect. Removal of Items will be held by pre-sche
 duled appointment on Saturday\, August 27th and Monday\, Augus
 t 29th through Tuesday\, August 30th. Winning Bidders will be
  contacted to choose an appointment on Bray Auctions' schedu
 ling system. For Any Questions\, Call (405) 888-5366.
URL:https://www.bidbray.com/auctions/detail/bw87328
SEQUENCE:1
END:VEVENT
END:VCALENDAR