BEGIN:VCALENDAR
VERSION:2.0
PRODID:-//ExpressionEngine Easy iCalendar plugin//NONSGML v2.0.1//EN
X-WR-TIMEZONE:America/Chicago
X-WR-CALNAME:Upcoming Auctions
BEGIN:VEVENT
UID:87445
DTSTAMP:20220818T130000
DTSTART:20220818T130000
DTEND:20220901T140000
SUMMARY:Musical Instruments! Guitars\, Basses\, Banjos\, Amplifiers\, Sp
 eakers\, & MORE!
LOCATION:3900 S Broadway Ave\, 2W\, Edmond\, OK 73013\, US
DESCRIPTION:DATE & TIME Auction Closes: Thursday\, September 1st\, 2022 Be
 ginning @ 1:00pm LOCATION & DIRECTIONS Items are Located at 
 3900 S Broadway\, 2W\, Edmond\, OK 73013 SALE INFORMATION Inspe
 ction of items will be held by appointment only. Auction wil
 l be held online only. Download the Bray Auctions App for iO
 S and Android Devices or bid online by clicking here. Bidde
 rs are required to create an account and input credit card i
 nformation for authorization. All Purchases Must Be Paid For
  Before They Can Be Picked Up. Cash\, Checks\, Credit / Debit 
 Cards\, and Wire Transfers Will Be Accepted. (3% Convenience 
 Fee on All Credit /Debit Card Purchases). A 10% Buyer's Prem
 ium Will Be In Effect. Removal of Items will be held by pre-
 scheduled appointment on Friday\, September 2nd. Winning Bidd
 ers will be contacted to choose an appointment on Bray Aucti
 ons' scheduling system. For Any Questions\, Call (405) 888-53
 66.
URL:https://www.bidbray.com/auctions/detail/bw87445
SEQUENCE:1
END:VEVENT
END:VCALENDAR