BEGIN:VCALENDAR
VERSION:2.0
PRODID:-//ExpressionEngine Easy iCalendar plugin//NONSGML v2.0.1//EN
X-WR-TIMEZONE:America/Chicago
X-WR-CALNAME:Upcoming Auctions
BEGIN:VEVENT
UID:88223
DTSTAMP:20220902T100000
DTSTART:20220902T100000
DTEND:20220912T130000
SUMMARY:Doughty Estate #7 - Collectibles\, Antiques\, & MORE!
LOCATION:3900 S Broadway Ave\, 2W\, Edmond\, OK 73013\, US
DESCRIPTION:DATE & TIME Auction Closes: Monday\, September 12th\, 2022 Beg
 inning @ 1:00pm LOCATION & DIRECTIONS Items are Located at 3
 900 S Broadway\, 2W\, Edmond\, OK 73013 SALE INFORMATION Inspec
 tion of items will be held by appointment only. Auction will
  be held online only. Download the Bray Auctions App for iOS
  and Android Devices or bid online by clicking here. Bidder
 s are required to create an account and input credit card in
 formation for authorization. All Purchases Must Be Paid For 
 Before They Can Be Picked Up. Cash\, Checks\, Credit / Debit C
 ards\, and Wire Transfers Will Be Accepted. (3% Convenience F
 ee on All Credit /Debit Card Purchases). A 10% Buyer's Premi
 um Will Be In Effect. Removal of Items will be held by pre-s
 cheduled appointment on Thursday\, September 8th and Friday\, 
 September 9th. Winning Bidders will be contacted to choose a
 n appointment on Bray Auctions' scheduling system. For Any Q
 uestions\, Call (405) 888-5366.
URL:https://www.bidbray.com/auctions/detail/bw88223
SEQUENCE:1
END:VEVENT
END:VCALENDAR