BEGIN:VCALENDAR
VERSION:2.0
PRODID:-//ExpressionEngine Easy iCalendar plugin//NONSGML v2.0.1//EN
X-WR-TIMEZONE:America/Chicago
X-WR-CALNAME:Upcoming Auctions
BEGIN:VEVENT
UID:88323
DTSTAMP:20220904T130000
DTSTART:20220904T130000
DTEND:20220918T150000
SUMMARY:Firearms\, Ammo\, Accessories and More!!
LOCATION:3900 S Broadway\, 2W\, Edmond\, OK 73013\, US
DESCRIPTION:DATE & TIME Auction Closes: Sunday\, September 18th\, Beginnin
 g @ 3:00pm LOCATION & DIRECTIONS Items are located at: 3900 
 S Broadway\, 2W\, Edmond\, OK 73013 SALE INFORMATION Inspection
  of items will be held by appointment only on Friday\, Septem
 ber 16th. Auction will be held online only. Download the Bra
 y Auctions App for iOS and Android Devices or bid online by 
 clicking here. Bidders are required to create an account an
 d input credit card information for authorization. All Purch
 ases Must Be Paid For Before They Can Be Picked Up. Cash\, Ch
 ecks\, Credit / Debit Cards\, and Wire Transfers Will Be Accep
 ted. (3% Convenience Fee on All Credit /Debit Card Purchases
 ). A 10% Buyer's Premium Will Be In Effect. Removal of Items
  will be held by scheduled appointment on Monday\, September 
 19th through Wednesday\, September 21st. Winning Bidders will
  be contacted to choose an appointment on Bray Auctions' sch
 eduling system. For Any Questions\, Call (405) 888-5366. For 
 Questions\, Contact Bray Auctions @ 405.888.5366
URL:https://www.bidbray.com/auctions/detail/bw88323
SEQUENCE:1
END:VEVENT
END:VCALENDAR