BEGIN:VCALENDAR
VERSION:2.0
PRODID:-//ExpressionEngine Easy iCalendar plugin//NONSGML v2.0.1//EN
X-WR-TIMEZONE:America/Chicago
X-WR-CALNAME:Upcoming Auctions
BEGIN:VEVENT
UID:88689
DTSTAMP:20220912T120000
DTSTART:20220912T120000
DTEND:20220921T130000
SUMMARY:Doughty Estate Auction #8 - Pedal Cars\, Antiques\, Collectibl
 es\, & MORE!
LOCATION:3900 S Broadway\, 2W\, Edmond\, OK 73013\, US
DESCRIPTION:DATE & TIME Auction Closes: Wednesday\, September 21st\, 2022 
 Beginning @ 1:00pm LOCATION & DIRECTIONS Items are Located n
 ear 3900 S Broadway\, 2W\, Edmond\, OK 73013 SALE INFORMATION I
 nspection of items will be held by appointment only. Auction
  will be held online only. Download the Bray Auctions App fo
 r iOS and Android Devices or bid online by clicking here. B
 idders are required to create an account and input credit ca
 rd information for authorization. All Purchases Must Be Paid
  For Before They Can Be Picked Up. Cash\, Checks\, Credit / De
 bit Cards\, and Wire Transfers Will Be Accepted. (3% Convenie
 nce Fee on All Credit /Debit Card Purchases). A 10% Buyer's 
 Premium Will Be In Effect. Removal of Items will be held by 
 pre-scheduled appointment on Thursday\, September 22nd and Fr
 iday\, September 23rd. Winning Bidders will be contacted to c
 hoose an appointment on Bray Auctions' scheduling system. Fo
 r Any Questions\, Call (405) 888-5366.
URL:https://www.bidbray.com/auctions/detail/bw88689
SEQUENCE:1
END:VEVENT
END:VCALENDAR