BEGIN:VCALENDAR
VERSION:2.0
PRODID:-//ExpressionEngine Easy iCalendar plugin//NONSGML v2.0.1//EN
X-WR-TIMEZONE:America/Chicago
X-WR-CALNAME:Upcoming Auctions
BEGIN:VEVENT
UID:89036
DTSTAMP:20220927T080000
DTSTART:20220927T080000
DTEND:20221007T130000
SUMMARY:Doughty Auction #9
LOCATION:3900 S Broadway\, 2W\, Edmond\, OK 73013\, US
DESCRIPTION:DATE & TIME Auction Closes: Friday\, October 7th\, 2022 Beginn
 ing @ 1:00pm LOCATION & DIRECTIONS Items are Located near 39
 00 S Broadway\, 2W\, Edmond\, OK 73013 SALE INFORMATION Inspect
 ion of items will be held by appointment only. Auction will 
 be held online only. Download the Bray Auctions App for iOS 
 and Android Devices or bid online by clicking here. Bidders 
 are required to create an account and input credit card info
 rmation for authorization. All Purchases Must Be Paid For Be
 fore They Can Be Picked Up. Cash\, Checks\, Credit / Debit Car
 ds\, and Wire Transfers Will Be Accepted. (3% Convenience Fee
  on All Credit /Debit Card Purchases). A 10% Buyer's Premium
  Will Be In Effect. Removal of Items will be held by pre-sch
 eduled appointment on Saturday\, October 8th and Monday\, Octo
 ber 10th. Winning Bidders will be contacted to choose an ap
 pointment on Bray Auctions' scheduling system. For Any Quest
 ions\, Call (405) 888-5366.
URL:https://www.bidbray.com/auctions/detail/bw89036
SEQUENCE:1
END:VEVENT
END:VCALENDAR