BEGIN:VCALENDAR
VERSION:2.0
PRODID:-//ExpressionEngine Easy iCalendar plugin//NONSGML v2.0.1//EN
X-WR-TIMEZONE:America/Chicago
X-WR-CALNAME:Upcoming Auctions
BEGIN:VEVENT
UID:89300
DTSTAMP:20220922T120000
DTSTART:20220922T120000
DTEND:20220925T180000
SUMMARY:Barnes Wrecker Service Impound Auction
LOCATION:10103 SE 29th St\, Midwest City\, OK 73130\, US
DESCRIPTION:TERMS & CONDITIONS: ATTN: Bray Auctions Requires a $100 Depo
 sit by Credit or Debit Card to Bid. Funds will be released a
 t the close of the auction. All vehicles are sold AS-IS\; it
  is the buyer's responsibility to inspect and verify informa
 tion regarding vehicles\; Barnes Wrecker Service and Bray Auc
 tions have provided information to the best of their ability
 \, but no guarantees or warranties are expressed nor implied.
  Highest Bidder Wins. The online bidding platform will close
  at a rate of 1 item per minute. If a bid is made within the
  final 3 minutes of any item\, the timer on THAT item will be
  reset to 3 minutes. Back up bidders and others will have th
 e opportunity to bid again on that item. An item does not cl
 ose or sell until the final 3 minutes elapse with no further
  bids. All sales are final. It is the bidder's responsibilit
 y to do due diligence on all items purchased. Any bidder tha
 t wins an item and does not pay will have their bidding cred
 entials revoked and will NEVER be permitted to bid again. Al
 l items must be paid for before they are removed. ALL items 
 must be paid for on the Tuesday through Friday following the
  auction from 8:00am to 4:00pm. Winning bidders have until F
 riday at 4:00 to pick up their vehicle(s). Payments will be 
 made at Barnes Wrecker Service by cash OR Express Pay only!
  If you have questions about vehicles\, please call Barnes Wr
 ecker at 405-737-7625. If you have questions about bidding\,
  please call Bray Auctions at 405-888-5366. Good luck!
URL:https://www.bidbray.com/auctions/detail/bw89300
SEQUENCE:1
END:VEVENT
END:VCALENDAR