BEGIN:VCALENDAR
VERSION:2.0
PRODID:-//ExpressionEngine Easy iCalendar plugin//NONSGML v2.0.1//EN
X-WR-TIMEZONE:America/Chicago
X-WR-CALNAME:Upcoming Auctions
BEGIN:VEVENT
UID:90241
DTSTAMP:20221010T130000
DTSTART:20221010T130000
DTEND:20221013T193000
SUMMARY:State Capital Publishing Museum Silent Auction
LOCATION:301 W Harrison Ave\, Guthrie\, OK 73044\, US
DESCRIPTION:Mission Guthrie Tomorrow Coalition\, Inc.\, dba/State Capital 
 Publishing Museum was created to acquire\, restore\, renovate\,
  preserve\, maintain\, and recognize the historical significan
 ce of the building known as the State Capital Publishing Mus
 eum which is located in the Stateâ€™s first capital city of 
 Guthrie\, Oklahoma. Vision The State Capital Publishing Museu
 m is a significant historic landmark destination that offers
  programming with something for everyone â€“ all ages\, all s
 tages. It stands as a beacon to the publishing industry and 
 a tribute to the beginnings of Oklahoma statehood. The organ
 ization provides a sustainable\, financially stable plan for 
 the museum\, which operates as a gathering place that encoura
 ges dynamic engagement through hands-on exhibits and communi
 ty events. Strategies The State Capital Publishing Museum Bo
 ardÂ hasÂ outlinedÂ a plan of action to assist withÂ executi
 on of restoration and renovation of theÂ building known as t
 he State Capital Publishing Museum.Â Â Elements identified f
 or repair and/or renovation as well as programs to be develo
 ped include: Window Replacement â€“ Replacement/Repair of Do
 ors and Door Openings â€“ Plumbing UpgradesÂ â€“ Railing and
  Sidewalk Upgrades â€“ Installation of Pedestrian Elevator â
 €“ Installation ofÂ Property Fire Escape or Equivalent Safet
 y Requirement â€“ Structural\, Mechanical\, Electrical\, Plumbi
 ng and Elevator Assessments\; Repair/Reinforcement of northea
 st Steps and LandingÂ â€“ Repair of Basement Walls and West 
 Wall â€“ Masonry Repairs â€“ Interior Repairs and Upgrades S
 ecureÂ Substantial Financial Support (Donations\, Fundraisers
  and Grants)Â â€“ DevelopmentÂ of Marketing and Branding Pla
 n\;Â Complete Building Acquisition â€“Â Collect Oral Historie
 s and Photographs â€“ Development of Programming for Childre
 n and Adults (in-person and on-line)\;Â Plan for Operations a
 nd Recurring MaintenanceÂ â€“ Training of Board Members and 
 Volunteers â€“ Adherence to Action Plans
URL:https://www.bidbray.com/auctions/detail/bw90241
SEQUENCE:1
END:VEVENT
END:VCALENDAR