BEGIN:VCALENDAR
VERSION:2.0
PRODID:-//ExpressionEngine Easy iCalendar plugin//NONSGML v2.0.1//EN
X-WR-TIMEZONE:America/Chicago
X-WR-CALNAME:Upcoming Auctions
BEGIN:VEVENT
UID:90665
DTSTAMP:20221012T130000
DTSTART:20221012T130000
DTEND:20221026T130000
SUMMARY:Francis Tuttle Equipment Liquidation Auction
LOCATION:12777 N Rockwell Ave\, Oklahoma City\, OK 73142\, US
DESCRIPTION:DATE & TIME Auction Closes: Wednesday\, October 26th\, Beginni
 ng @ 1:00pm LOCATION & DIRECTIONS Items are located at: Fran
 cis Tuttle\, 12777 N Rockwell Ave\, 73142 SALE INFORMATION Ins
 pection of items will be held by appointment only on Tuesday
 \, October 25th. Auction will be held online only. Download 
 the Bray Auctions App for iOS and Android Devices or bid onl
 ine by clicking here. Bidders are required to create an acc
 ount and input credit card information for authorization. Al
 l Purchases Must Be Paid For Before They Can Be Picked Up. 
  Cash\, Checks\, Credit / Debit Cards\, and Wire Transfers Will
  Be Accepted. (3% Convenience Fee on All Credit /Debit Card 
 Purchases). A 10% Buyer's Premium Will Be In Effect. Removal
  of Items will be held by scheduled appointment on Thursday\,
  October 27th and Friday\, October 28th. Winning Bidders wil
 l be contacted to choose an appointment on Bray Auctions' sc
 heduling system.
URL:https://www.bidbray.com/auctions/detail/bw90665
SEQUENCE:1
END:VEVENT
END:VCALENDAR