BEGIN:VCALENDAR
VERSION:2.0
PRODID:-//ExpressionEngine Easy iCalendar plugin//NONSGML v2.0.1//EN
X-WR-TIMEZONE:America/Chicago
X-WR-CALNAME:Upcoming Auctions
BEGIN:VEVENT
UID:91083
DTSTAMP:20221024T130000
DTSTART:20221024T130000
DTEND:20221104T130000
SUMMARY:Doughty Estate Auction #10
LOCATION:3900 S Broadway\, 2W\, Edmond\, OK 73013\, US
DESCRIPTION:DATE & TIME Auction Closes: Friday\, November 4th\, 2022 Begin
 ning @ 1:00pm LOCATION & DIRECTIONS Items are Located near 3
 900 S Broadway\, 2W\, Edmond\, OK 73013 SALE INFORMATION Inspec
 tion of items will be held by appointment only. Auction will
  be held online only. Download the Bray Auctions App for iOS
  and Android Devices or bid online by clicking here. Bidder
 s are required to create an account and input credit card in
 formation for authorization. All Purchases Must Be Paid For 
 Before They Can Be Picked Up. Cash\, Checks\, Credit / Debit C
 ards\, and Wire Transfers Will Be Accepted. (3% Convenience F
 ee on All Credit /Debit Card Purchases). A 10% Buyer's Premi
 um Will Be In Effect. Removal of Items will be held by pre-s
 cheduled appointment on Saturday\, November 5th and Monday-Tu
 esday\, November 7ty & 8th. Winning Bidders will be contacted
  to choose an appointment on Bray Auctions' scheduling syste
 m. For Any Questions\, Call (405) 888-5366.
URL:https://www.bidbray.com/auctions/detail/bw91083
SEQUENCE:1
END:VEVENT
END:VCALENDAR