BEGIN:VCALENDAR
VERSION:2.0
PRODID:-//ExpressionEngine Easy iCalendar plugin//NONSGML v2.0.1//EN
X-WR-TIMEZONE:America/Chicago
X-WR-CALNAME:Upcoming Auctions
BEGIN:VEVENT
UID:91715
DTSTAMP:20221102T130000
DTSTART:20221102T130000
DTEND:20221123T130000
SUMMARY:Corvettes\, Camaros\, and Firebirds!!!
LOCATION:700 N Villa Ave\, Oklahoma City\, OK 73107\, US
DESCRIPTION:test
URL:https://www.bidbray.com/auctions/detail/bw91715
SEQUENCE:1
END:VEVENT
END:VCALENDAR