BEGIN:VCALENDAR
VERSION:2.0
PRODID:-//ExpressionEngine Easy iCalendar plugin//NONSGML v2.0.1//EN
X-WR-TIMEZONE:America/Chicago
X-WR-CALNAME:Upcoming Auctions
BEGIN:VEVENT
UID:92147
DTSTAMP:20221111T130000
DTSTART:20221111T130000
DTEND:20221113T180000
SUMMARY:Cleveland County District Attorney Seizure Auction
LOCATION:700 N Villa Ave\, Oklahoma City\, OK 73107\, US
DESCRIPTION:TERMS & CONDITIONS: ATTN: A $100 Deposit is required to bid.
  A hold will be placed on funds from the card used to regist
 er. All vehicles are sold AS-IS with no warranties express n
 or implied\; it is the buyer's responsibility to inspect and 
 verify information regarding vehicles\; Arrow Wrecker and Bra
 y Auctions have provided information to the best of their ab
 ility\, but buyers have the ultimate responsibility of due di
 ligence. Highest Bidder Wins. The online bidding platform wi
 ll close at a rate of 1 item per minute. If a bid is made wi
 thin the final 3 minutes of any item\, the timer on THAT item
  will be reset to 3 minutes. Back up bidders and others will
  have the opportunity to bid again on that item. An item doe
 s not close or sell until the final 3 minutes elapse with no
  further bids. All sales are final. It is the bidder's respo
 nsibility to do due diligence on all items purchased. Any bi
 dder that wins an item and does not pay will have their bidd
 ing credentials revoked and will NEVER be permitted to bid a
 gain. All items must be paid for before they are removed. AL
 L items must be paid for and removed on the Monday through W
 ednesday following the auction from 8:00am to 6:00pm. Any ve
 hicles still not picked up after 1 week will be subject to a
  $5 per day storage fee. Payments will be made at Arrow Wrec
 ker Service by cash or cashiers check ONLY. If you have ques
 tions about vehicles\, please call Arrow Wrecker at 405-943-1
 800. If you have questions about bidding\, please call Bray A
 uctions at 405-888-5366. Good luck!
URL:https://www.bidbray.com/auctions/detail/bw92147
SEQUENCE:1
END:VEVENT
END:VCALENDAR