BEGIN:VCALENDAR
VERSION:2.0
PRODID:-//ExpressionEngine Easy iCalendar plugin//NONSGML v2.0.1//EN
X-WR-TIMEZONE:America/Chicago
X-WR-CALNAME:Upcoming Auctions
BEGIN:VEVENT
UID:92819
DTSTAMP:20221128T130000
DTSTART:20221128T130000
DTEND:20221211T130000
SUMMARY:Doughty Estate Auction #11
LOCATION:3900 S Broadway\, 2W\, Edmond\, OK 73013\, US
DESCRIPTION:DATE & TIME Auction Closes: Sunday\, December 11th\, 2022 Begi
 nning @ 1:00pm LOCATION & DIRECTIONS Items are Located near 
 3900 S Broadway\, 2W\, Edmond\, OK 73013. Exact location will b
 e emailed to winning bidders. SALE INFORMATION Inspection of
  items will be held by appointment only. Auction will be hel
 d online only. Download the Bray Auctions App for iOS and An
 droid Devices or bid online by clicking here. Bidders are re
 quired to create an account and input credit card informatio
 n for authorization. All Purchases Must Be Paid For Before T
 hey Can Be Picked Up. Cash\, Checks\, Credit / Debit Cards\, an
 d Wire Transfers Will Be Accepted. (3% Convenience Fee on Al
 l Credit /Debit Card Purchases). A 10% Buyer's Premium Will 
 Be In Effect. Removal of Items will be held by pre-scheduled
  appointment on Thursday\, November 3rd and Friday\, November 
 4th. Winning Bidders will be contacted to choose an appointm
 ent on Bray Auctions' scheduling system. For Any Questions\, 
 Call (405) 888-5366.
URL:https://www.bidbray.com/auctions/detail/bw92819
SEQUENCE:1
END:VEVENT
END:VCALENDAR