BEGIN:VCALENDAR
VERSION:2.0
PRODID:-//ExpressionEngine Easy iCalendar plugin//NONSGML v2.0.1//EN
X-WR-TIMEZONE:America/Chicago
X-WR-CALNAME:Upcoming Auctions
BEGIN:VEVENT
UID:94452
DTSTAMP:20230106T130000
DTSTART:20230106T130000
DTEND:20230111T180000
SUMMARY:J&M PRO Towing Impound Auction
LOCATION:700 W Edmond Rd\, Edmond\, OK 73003\, US
DESCRIPTION:Test
URL:https://www.bidbray.com/auctions/detail/bw94452
SEQUENCE:1
END:VEVENT
END:VCALENDAR