BEGIN:VCALENDAR
VERSION:2.0
PRODID:-//ExpressionEngine Easy iCalendar plugin//NONSGML v2.0.1//EN
X-WR-TIMEZONE:America/Chicago
X-WR-CALNAME:Upcoming Auctions
BEGIN:VEVENT
UID:94823
DTSTAMP:20230115T130000
DTSTART:20230115T130000
DTEND:20230129T130000
SUMMARY:January 2023 Firearm Auction
LOCATION:3900 S Broadway\, 2W\, Edmond\, OK 73013\, US
DESCRIPTION:DATE & TIME Auction Closes: Sunday\, January 29th\, Beginning 
 @ 1:00pm LOCATION & DIRECTIONS Items are located at: 3900 S 
 Broadway\, 2W\, Edmond\, OK 73013 SALE INFORMATION Inspection o
 f items will be held by appointment only on Friday\, January 
 27th. Auction will be held online only. Download the Bray Au
 ctions App for iOS and Android Devices or bid online by clic
 king here. Bidders are required to create an account and in
 put credit card information for authorization. All Purchases
  Must Be Paid For Before They Can Be Picked Up. Cash\, Checks
 \, Credit / Debit Cards\, and Wire Transfers Will Be Accepted.
  (3% Convenience Fee on All Credit /Debit Card Purchases). A
  10% Buyer's Premium Will Be In Effect. Removal of Items wil
 l be held by scheduled appointment on Monday\, January 30th t
 hrough Wednesday\, February 1st. Winning Bidders will be cont
 acted to choose an appointment on Bray Auctions' scheduling 
 system. For Any Questions\, Call (405) 888-5366. For Question
 s\, Contact Bray Auctions @ 405.888.5366
URL:https://www.bidbray.com/auctions/detail/bw94823
SEQUENCE:1
END:VEVENT
END:VCALENDAR