BEGIN:VCALENDAR
VERSION:2.0
PRODID:-//ExpressionEngine Easy iCalendar plugin//NONSGML v2.0.1//EN
X-WR-TIMEZONE:America/Chicago
X-WR-CALNAME:Upcoming Auctions
BEGIN:VEVENT
UID:95053
DTSTAMP:20230119T130000
DTSTART:20230119T130000
DTEND:20230131T130000
SUMMARY:Antique / Furniture Auction
LOCATION:3900 S Broadway\, 2W\, Edmond\, OK 73013\, US
DESCRIPTION:DATE & TIME Auction Closes: Tuesday\, January 31st\, Beginning
  @ 1:00pm LOCATION & DIRECTIONS Items are located at 3900 S 
 Broadway 2W Edmond\, Ok 73013  SALE INFORMATION Inspection 
 of items will be held by appointment on Monday\, January 30th
  by appointment only. Auction will be held online only. Down
 load the Bray Auctions App for iOS and Android Devices or bi
 d online by clicking here. Bidders are required to create a
 n account and input credit card information for authorizatio
 n. All Purchases Must Be Paid For Before They Can Be Picked 
 Up.  Cash\, Checks\, Credit / Debit Cards\, and Wire Transfers
  Will Be Accepted. (3% Convenience Fee on All Credit /Debit 
 Card Purchases). A 10% Buyer's Premium Will Be In Effect. Re
 moval of Items will be held by appointment on Wednesday\, Feb
 ruary 1st and Thursday\, January 2nd. Winning Bidders will be
  required to schedule an appointment on Bray Auctions schedu
 ling system. For Any Questions\, Call (405) 888-5366.
URL:https://www.bidbray.com/auctions/detail/bw95053
SEQUENCE:1
END:VEVENT
END:VCALENDAR