BEGIN:VCALENDAR
VERSION:2.0
PRODID:-//ExpressionEngine Easy iCalendar plugin//NONSGML v2.0.1//EN
X-WR-TIMEZONE:America/Chicago
X-WR-CALNAME:Upcoming Auctions
BEGIN:VEVENT
UID:97799
DTSTAMP:20230315T130000
DTSTART:20230315T130000
DTEND:20230326T150000
SUMMARY:Doughty Tool & Equipment Auction
LOCATION:3900 S Broadway\, 2W\, Edmond\, OK 73013\, US
DESCRIPTION:MORE INFO COMING SOON!
URL:https://www.bidbray.com/auctions/detail/bw97799
SEQUENCE:1
END:VEVENT
END:VCALENDAR