BEGIN:VCALENDAR
VERSION:2.0
PRODID:-//ExpressionEngine Easy iCalendar plugin//NONSGML v2.0.1//EN
X-WR-TIMEZONE:America/Chicago
X-WR-CALNAME:Upcoming Auctions
BEGIN:VEVENT
UID:98083
DTSTAMP:20230321T130000
DTSTART:20230321T130000
DTEND:20230408T130000
SUMMARY:Francis Tuttle Technology Commercial Industrial Equipment Au
 ction
LOCATION:12777 N Rockwell Ave\, Oklahoma City\, OK 73142\, US
DESCRIPTION:DATE & TIME Auction Closes: Saturday\, April 8th\, Beginning @
  1:00pm LOCATION & DIRECTIONS Items are located at: Francis 
 Tuttle\, 12777 N Rockwell Ave\, 73142 SALE INFORMATION Inspect
 ion of items will be held by appointment only on Friday\, Apr
 il 7th. Auction will be held online only. Download the Bray 
 Auctions App for iOS and Android Devices or bid online by cl
 icking here. Bidders are required to create an account and i
 nput credit card information for authorization. All Purchase
 s Must Be Paid For Before They Can Be Picked Up. Cash\, Check
 s\, Credit / Debit Cards\, and Wire Transfers Will Be Accepted
 . (3% Convenience Fee on All Credit /Debit Card Purchases). 
 A 10% Buyer's Premium Will Be In Effect. Removal of Items wi
 ll be held by scheduled appointment on Monday\, April 10th an
 d Tuesday\, April 11th. Winning Bidders will be contacted to 
 choose an appointment on Bray Auctions' scheduling system.
URL:https://www.bidbray.com/auctions/detail/bw98083
SEQUENCE:1
END:VEVENT
END:VCALENDAR